BEGIN:VCALENDAR
VERSION:2.0
PRODID:-//District 1351 | Events, Food, Shopping &amp; Nightlife | Sudbury. ON - ECPv6.15.16//NONSGML v1.0//EN
CALSCALE:GREGORIAN
METHOD:PUBLISH
X-ORIGINAL-URL:https://district1351.ca
X-WR-CALDESC:Events for District 1351 | Events, Food, Shopping &amp; Nightlife | Sudbury. ON
REFRESH-INTERVAL;VALUE=DURATION:PT1H
X-Robots-Tag:noindex
X-PUBLISHED-TTL:PT1H
BEGIN:VTIMEZONE
TZID:UTC
BEGIN:STANDARD
TZOFFSETFROM:+0000
TZOFFSETTO:+0000
TZNAME:UTC
DTSTART:20240101T000000
END:STANDARD
END:VTIMEZONE
BEGIN:VEVENT
DTSTART;TZID=UTC:20250227T180000
DTEND;TZID=UTC:20250227T213000
DTSTAMP:20260420T131453
CREATED:20241115T111749Z
LAST-MODIFIED:20241115T111749Z
UID:2425-1740679200-1740691800@district1351.ca
SUMMARY:Pasta & Pairings Cooking Class/Wine Tasting - Risotto
DESCRIPTION:Tour Italy’s regions through pasta and wine in this interactive cooking class and wine tasting experience.* \nLearn about the tradition and culture of each region\, while making a pasta together and then watching our chefs prepare a sauce specific to the area. Discover the reason behind its intended shape and best accompanying sauce. The best way to enjoy pasta is paired with wine from the region. Included in this experience is a wine tasting and tutorial focused on one rare varietal.\nEach cooking class includes an antipasto bar and welcome glass of prosecco for participants\, along with a hands-on cooking class and wine tasting (glass of wine paired with pasta). While you get to take home your pasta\, you will also enjoy a plate prepared by our kitchen. \n*In this class\, guests will make and taste risotto in a mushroom ragu.
URL:https://district1351.ca/event/pasta-pairings-cooking-class-wine-tasting-risotto/
LOCATION:Natura Catering & Events\, 1351-D Kelly Lake Road\, Unit 2\, Sudbury\, Ontario\, P3E5P5\, Canada
ATTACH;FMTTYPE=image/avif:https://district1351.ca/wp-content/uploads/2024/11/e5605de7-a41a-4583-a14b-affd09b60eb0.avif
ORGANIZER;CN="Verdicchio Ristorante Enoteca":MAILTO:laura@verdicchio.ca
END:VEVENT
END:VCALENDAR