BEGIN:VCALENDAR
VERSION:2.0
PRODID:-//District 1351 | Events, Food, Shopping &amp; Nightlife | Sudbury. ON - ECPv6.15.16//NONSGML v1.0//EN
CALSCALE:GREGORIAN
METHOD:PUBLISH
X-ORIGINAL-URL:https://district1351.ca
X-WR-CALDESC:Events for District 1351 | Events, Food, Shopping &amp; Nightlife | Sudbury. ON
REFRESH-INTERVAL;VALUE=DURATION:PT1H
X-Robots-Tag:noindex
X-PUBLISHED-TTL:PT1H
BEGIN:VTIMEZONE
TZID:UTC
BEGIN:STANDARD
TZOFFSETFROM:+0000
TZOFFSETTO:+0000
TZNAME:UTC
DTSTART:20240101T000000
END:STANDARD
END:VTIMEZONE
BEGIN:VEVENT
DTSTART;TZID=UTC:20250906T110000
DTEND;TZID=UTC:20250906T160000
DTSTAMP:20260420T132556
CREATED:20250718T175827Z
LAST-MODIFIED:20250718T175827Z
UID:2509-1757156400-1757174400@district1351.ca
SUMMARY:Pastapalooza
DESCRIPTION:Annual District 1351 fundraiser held in support of Sudbury Food Bank. \nDetails to come.
URL:https://district1351.ca/event/pastapalooza/
LOCATION:Natura Catering & Events\, 1351-D Kelly Lake Road\, Unit 2\, Sudbury\, Ontario\, P3E5P5\, Canada
END:VEVENT
END:VCALENDAR